BEGIN:VCALENDAR
VERSION:2.0
PRODID:-//AfD Kreis Hamm - ECPv6.15.20//NONSGML v1.0//EN
CALSCALE:GREGORIAN
METHOD:PUBLISH
X-WR-CALNAME:AfD Kreis Hamm
X-ORIGINAL-URL:https://afd-kreis-hamm.de
X-WR-CALDESC:Veranstaltungen für AfD Kreis Hamm
REFRESH-INTERVAL;VALUE=DURATION:PT1H
X-Robots-Tag:noindex
X-PUBLISHED-TTL:PT1H
BEGIN:VTIMEZONE
TZID:Europe/Berlin
BEGIN:DAYLIGHT
TZOFFSETFROM:+0100
TZOFFSETTO:+0200
TZNAME:CEST
DTSTART:20250330T010000
END:DAYLIGHT
BEGIN:STANDARD
TZOFFSETFROM:+0200
TZOFFSETTO:+0100
TZNAME:CET
DTSTART:20251026T010000
END:STANDARD
BEGIN:DAYLIGHT
TZOFFSETFROM:+0100
TZOFFSETTO:+0200
TZNAME:CEST
DTSTART:20260329T010000
END:DAYLIGHT
BEGIN:STANDARD
TZOFFSETFROM:+0200
TZOFFSETTO:+0100
TZNAME:CET
DTSTART:20261025T010000
END:STANDARD
BEGIN:DAYLIGHT
TZOFFSETFROM:+0100
TZOFFSETTO:+0200
TZNAME:CEST
DTSTART:20270328T010000
END:DAYLIGHT
BEGIN:STANDARD
TZOFFSETFROM:+0200
TZOFFSETTO:+0100
TZNAME:CET
DTSTART:20271031T010000
END:STANDARD
END:VTIMEZONE
BEGIN:VEVENT
DTSTART;TZID=Europe/Berlin:20260425T150000
DTEND;TZID=Europe/Berlin:20260425T190000
DTSTAMP:20260424T091456
CREATED:20260416T182516Z
LAST-MODIFIED:20260416T182640Z
UID:14886-1777129200-1777143600@afd-kreis-hamm.de
SUMMARY:NRW WIRD BLAU – AfD Kreisverband-Hamm lädt ein
DESCRIPTION:Am 25.04.2026 ab 15 Uhr im Europasaal\, Römerstr.18\, 59075 Hamm \n  \nUnsere Redner im Überblick \nMarion Bergk (Aachen) \nMarion Bergk ist kommunalpolitisch in Aachen verwurzelt – einer Stadt\, die in besonderer Weise für Grenzlage\, Wissenschaft\, Wirtschaft und urbane Herausforderungen steht. Diese Mischung aus Tradition\, Innovation und konkreten Alltagsfragen prägt ihren politischen Blick. \nIhr Schwerpunkt liegt auf Bildung\, Familienpolitik\, Jugendthemen sowie sozialer Verantwortung. Durch ihre Arbeit in den Bereichen Schule\, Weiterbildung\, Soziales und Demographie steht sie für eine bürgernahe Kommunalpolitik mit klarem Fokus auf Familien und gesellschaftlichen Zusammenhalt. \nAndrea Pousset (Essen) \nAndrea Pousset bringt als gebürtige Essenerin die Perspektive des Ruhrgebiets mit – einer Region\, in der Fragen von Bildung\, Sicherheit\, kommunaler Handlungsfähigkeit und gesellschaftlichem Zusammenhalt eine zentrale Rolle spielen. \nAls Ratsfrau im Essener Stadtrat verbindet sie kommunalpolitische Erfahrung mit fachlicher Kompetenz aus ihrer beruflichen Tätigkeit als Lehrerin und Sozialarbeiterin. Ihre politischen Schwerpunkte liegen insbesondere auf Schule\, Jugend\, Wertevermittlung\, innerer Sicherheit und Familienpolitik. \nClaus Henning Gahr (Düsseldorf) \nClaus Henning Gahr kommt aus Düsseldorf und steht für die Perspektive einer wachsenden Großstadt\, in der Themen wie Sicherheit\, Stadtentwicklung\, Wirtschaftskraft und Lebensqualität täglich sichtbar sind. \nAls Jurist und erfahrener Kommunalpolitiker verbindet er wirtschaftliche Vernunft\, Ordnungspolitik und moderne Stadtentwicklung mit einem klaren Fokus auf Bürgernähe und Verwaltungsmodernisierung. Sein Profil steht für Großstadtkompetenz und kommunale Verantwortung. \nSven Elbers (Geldern / Kreis Kleve) \nSven Elbers ist politisch fest am Niederrhein verwurzelt. Die Themen einer Grenzregion – von innerer Sicherheit über Infrastruktur bis hin zur Stärkung des ländlichen Raums – prägen seine politische Arbeit. \nAls Kreissprecher und kommunaler Mandatsträger steht er für Heimatverbundenheit\, Familienpolitik\, finanzielle Vernunft und eine starke kommunale Basisarbeit. Besonders wichtig sind ihm die Interessen des ländlichen Raums und die Stärkung der regionalen Identität\, Digitalisierung\, Gesundheitswesen. \nAndreas Klöckner (Aachen) \nAndreas Klöckner bringt die Perspektive einer Grenz- und Hochschulregion ein\, in der Wissenschaft\, Wirtschaftskraft\, Sicherheit und urbane Entwicklung eng miteinander verbunden sind. \nSein politischer Fokus liegt auf innerer Sicherheit\, kommunaler Handlungsfähigkeit\, wirtschaftlicher Vernunft und gesellschaftlichem Zusammenhalt sowie Medien und Manipulation der Medien. Dabei verbindet er die Anliegen der Bürger vor Ort mit den landespolitischen Herausforderungen Nordrhein-Westfalens. \nFreuen Sie sich auf einen spannenden politischen Nachmittag mit klaren Positionen\, kommunaler Erfahrung und einem direkten Austausch mit unseren Kandidaten zur Landtagswahl 2027 in Nordrhein-Westfalen. \n 
URL:https://afd-kreis-hamm.de/veranstaltung/nrw-wird-blau-afd-kreisverband-hamm-laedt-ein/
LOCATION:Römerstraße 18\, 59065 Hamm\, Römerstraße 18\, Hamm\, NRW\, 59065
CATEGORIES:Öffentliche Veranstaltung,Vorträge
ATTACH;FMTTYPE=image/jpeg:https://afd-kreis-hamm.de/wp-content/uploads/2026/04/NRW-blau-25-4-26.jpg
ORGANIZER;CN="AfD Kreis Hamm":MAILTO:kontakt@afd-kreis-hamm.de
END:VEVENT
END:VCALENDAR